BEGIN:VCALENDAR
VERSION:2.0
PRODID:-//eventon.com NONSGML v1.0//EN
BEGIN:VEVENT
UID:69e577ac9c4f5
DTSTAMP:20260420T024740
DTSTART:20180628T090000Z
DTEND:20180628T130000Z
TZID:UTC
LOCATION:Malakoff Mederic 21 Rue Laffitte\,  75009 Paris
SUMMARY:Réunion FIECI - 28 Juin 2018 - La communication et le développement syndical
DESCRIPTION: [vc_row][vc_column][vc_column_text]  La communication et le développement syndical Nous avons le plaisir de vous convier à une réunion qui se déroulera le jeudi 28 juin prochain dans les locaux de notre partenaire Malakoff Médéric de 9h à 13h ayant pour thème la communication digitale et le développement syndical des sections\,  et[..]\nhttps://www.fieci-cfecgc.org/evenements/reunion-fieci-28-juin-2018-la-communication-et-le-developpement-syndical/
URL:https://www.fieci-cfecgc.org/evenements/reunion-fieci-28-juin-2018-la-communication-et-le-developpement-syndical/
END:VEVENT
END:VCALENDAR