BEGIN:VCALENDAR
VERSION:2.0
PRODID:-//eventon.com NONSGML v1.0//EN
BEGIN:VEVENT
UID:69e565116d07f
DTSTAMP:20260420T012817
DTSTART:20180907T140000Z
DTEND:20180907T180000Z
TZID:UTC
LOCATION:Maison des syndicats 7 Gare de l’Etat 44 200 Nantes 
SUMMARY:FIECI Formation CSE - Protocole Electoral NANTES
DESCRIPTION: [vc_row][vc_column][vc_column_text] La FIECI et son partenaire SEXTANT EXPERTISE  ont le plaisir de vous inviter à cette nouvelle formation indispensable\,  suite aux Ordonnances Macron : QUE PEUT-ON NÉGOCIER POUR AVOIR UN CSE EFFICACE ? QUE DOIT CONTENIR LE FUTUR PROTOCOLE D’ACCORD PRÉÉLECTORAL ?  Formation d’une durée de 4 heures où vous seront présentés[..]\nhttps://www.fieci-cfecgc.org/evenements/fieci-formation-cse-protocole-electoral-nantes-septembre-2018/
URL:https://www.fieci-cfecgc.org/evenements/fieci-formation-cse-protocole-electoral-nantes-septembre-2018/
END:VEVENT
END:VCALENDAR