BEGIN:VCALENDAR
VERSION:2.0
PRODID:-//eventon.com NONSGML v1.0//EN
BEGIN:VEVENT
UID:69e554c4620dc
DTSTAMP:20260420T001844
DTSTART:20181025T090000Z
DTEND:20181025T130000Z
TZID:UTC
LOCATION:Malakoff Mederic 21 Rue Laffitte\,  75009 Paris
SUMMARY:FIECI : Matinale Juridique - Focus sur les principaux arrêts en droit social : 2nd semestre 2017 - année 2018
DESCRIPTION: [vc_row][vc_column][vc_column_text] La FIECI a le plaisir de vous inviter à notre Matinée Juridique : Focus sur les principaux arrêts en droit social 2nd semestre 2017 &#8211; année 2018 n&#8217;hésitez pas à venir avec un collègue\,  l&#8217;événement est gratuit Jeudi 25 octobre 2018 Matinée animée par : Maitre Yohanna Weizmann et[..]\nhttps://www.fieci-cfecgc.org/evenements/fieci-matinale-juridique-focus-sur-les-principaux-arrets-en-droit-social-2nd-semestre-2017-annee-2018/
URL:https://www.fieci-cfecgc.org/evenements/fieci-matinale-juridique-focus-sur-les-principaux-arrets-en-droit-social-2nd-semestre-2017-annee-2018/
END:VEVENT
END:VCALENDAR