BEGIN:VCALENDAR
VERSION:2.0
PRODID:-//eventon.com NONSGML v1.0//EN
BEGIN:VEVENT
UID:69e5425806da2
DTSTAMP:20260419T230008
DTSTART:20180918T190000Z
DTEND:20180918T220000Z
TZID:UTC
LOCATION:chez Zazza 18 Rue du Faubourg Poissonnière\,  75010 Paris
SUMMARY:Soirée de lancement du syndicat PARTAGE
DESCRIPTION: [vc_row][vc_column][vc_column_text] Après avoir été depuis plusieurs années un acteur et un observateur privilégié du développement de cette forme d’emploi\,  la FIECI CFE-CGC crée le premier syndicat exclusivement dédié aux salariés portés. Elle organise à cette occasion une soirée de lancement le 18 septembre 2018 à Paris (Chez Zazza\,  à partir de[..]\nhttps://www.fieci-cfecgc.org/evenements/soiree-de-lancement-du-syndicat-partage/
URL:https://www.fieci-cfecgc.org/evenements/soiree-de-lancement-du-syndicat-partage/
END:VEVENT
END:VCALENDAR