BEGIN:VCALENDAR
VERSION:2.0
PRODID:-//eventon.com NONSGML v1.0//EN
BEGIN:VEVENT
UID:69eb41cd0c9e5
DTSTAMP:20260424T121125
DTSTART:20231011T073000Z
DTEND:20231011T093000Z
TZID:Europe/Paris
LOCATION:
SUMMARY:WEBINAR FIECI / AOPS Présentation de l’outil de calcul des indemnités de rupture & Information sur l’inflation des contrats Prévoyance Santé– mercredi 11 octobre 2023
DESCRIPTION: [vc_row][vc_column][vc_column_text] La FIECI a le plaisir de vous inviter au WEBINAR organisé conjointement avec. Qui se tiendra le : MERCREDI 11 OCTOBRE 2023 de 09h30 à 11h30 Ordre du Jour : Présentation de l’outil de calcul des indemnités de rupture dans les cas de licenciement\,  rupture conventionnelle\,  départ à la retraite (et mise à[..]\nhttps://www.fieci-cfecgc.org/evenements/webinar-fieci-aops-presentation-de-loutil-de-calcul-des-indemnites-de-rupture-information-sur-linflation-des-contrats-prevoyance-sante-mercredi-11-octobre-2023-09h30-1/
URL:https://www.fieci-cfecgc.org/evenements/webinar-fieci-aops-presentation-de-loutil-de-calcul-des-indemnites-de-rupture-information-sur-linflation-des-contrats-prevoyance-sante-mercredi-11-octobre-2023-09h30-1/
END:VEVENT
END:VCALENDAR