BEGIN:VCALENDAR
VERSION:2.0
PRODID:-//eventon.com NONSGML v1.0//EN
BEGIN:VEVENT
UID:69eb2dcc65f50
DTSTAMP:20260424T104604
DTSTART:20240322T073000Z
DTEND:20240322T120000Z
TZID:Europe/Paris
LOCATION:NATIXIS 59\,  avenue Pierre-Mendès France\,  75013  Paris
SUMMARY:Matinale Juridique : Focus sur les dernières actualités et arrêts en Droit Social – vendredi 22 mars 2024 (09h00-12h30)
DESCRIPTION: [vc_row][vc_column][vc_column_text css=&#8221;.vc_custom_1706612929583{background-color: #ffffff !important;}&#8221;] La FIECI a le plaisir de vous inviter à notre prochaine Matinée Juridique qui se tiendra en présentiel le : VENDREDI 22 MARS 2024 de 09h00 à 12h30 Au sein des locaux de NATIXIS 59\,  avenue Pierre Mendès-France\,  75013 Paris ACCUEIL « CAFE &#8211; VIENNOISERIES » A[..]\nhttps://www.fieci-cfecgc.org/evenements/matinale-juridique-focus-sur-les-dernieres-actualites-et-arrets-en-droit-social-vendredi-22-mars-2024-09h00-12h30/
URL:https://www.fieci-cfecgc.org/evenements/matinale-juridique-focus-sur-les-dernieres-actualites-et-arrets-en-droit-social-vendredi-22-mars-2024-09h00-12h30/
END:VEVENT
END:VCALENDAR