BEGIN:VCALENDAR
VERSION:2.0
PRODID:-//eventon.com NONSGML v1.0//EN
BEGIN:VEVENT
UID:69eb1c76a0343
DTSTAMP:20260424T093206
DTSTART:20240322T130000Z
DTEND:20240322T160000Z
TZID:Europe/Paris
LOCATION:NATIXIS 59\,  avenue Pierre-Mendès France\,  75013  Paris
SUMMARY:Formation Discrimination – vendredi 22 mars 2024 (14h00-17h00)
DESCRIPTION: [vc_row][vc_column][vc_column_text css=&#8221;.vc_custom_1706612881050{background-color: #ffffff !important;}&#8221;] La FIECI a le plaisir de vous inviter à la session de formation &#8221; discrimination&#8221; : VENDREDI 22 MARS 2024 de 14h00 à 17h00 Au sein des locaux de NATIXIS 59\,  avenue Pierre Mendès France\,  75013 Paris Formation animée par : Maitre Jérôme Borzakian\,  avocat à la Cour [/vc_column_text][vc_separator][vc_column_text][..]\nhttps://www.fieci-cfecgc.org/evenements/formation-discrimination-vendredi-22-mars-2024-14h00-17h00/
URL:https://www.fieci-cfecgc.org/evenements/formation-discrimination-vendredi-22-mars-2024-14h00-17h00/
END:VEVENT
END:VCALENDAR