BEGIN:VCALENDAR
VERSION:2.0
PRODID:-//eventon.com NONSGML v1.0//EN
BEGIN:VEVENT
UID:69eb0709ceb0c
DTSTAMP:20260424T080041
DTSTART:20241122T080000Z
DTEND:20241122T120000Z
TZID:Europe/Paris
LOCATION:VYV 62-68 rue Jeanne d’Arc 75013 Paris
SUMMARY:FIECI : Matinée Juridique : Focus sur les dernières actualités et arrêts en Droit Social – vendredi 22 novembre 2024 (09h00-12h30)
DESCRIPTION: [vc_row][vc_column][vc_column_text css=&#8221;&#8221;] La FIECI a le plaisir de vous inviter à notre prochaine Matinée Juridique qui se tiendra  :  VENDREDI 22 NOVEMBRE 2024 de 09h00 à 12h30 ACCUEIL « CAFE » A PARTIR DE 08H30 Focus sur les principaux arrêts enDroit Social – Individuel et Collectif :  MARS 2024 A OCTOBRE 2024 [..]\nhttps://www.fieci-cfecgc.org/evenements/matinee-juridique-focus-sur-les-dernieres-actualites-et-arrets-en-droit-social-vendredi-22-novembre-2024-09h00-12h30/
URL:https://www.fieci-cfecgc.org/evenements/matinee-juridique-focus-sur-les-dernieres-actualites-et-arrets-en-droit-social-vendredi-22-novembre-2024-09h00-12h30/
END:VEVENT
END:VCALENDAR